BEGIN:VCALENDAR
VERSION:2.0
PRODID:-//Wat Buddhahavana of Massachusetts - ECPv6.15.17.1//NONSGML v1.0//EN
CALSCALE:GREGORIAN
METHOD:PUBLISH
X-WR-CALNAME:Wat Buddhahavana of Massachusetts
X-ORIGINAL-URL:https://watbuddhabhavana.org
X-WR-CALDESC:Events for Wat Buddhahavana of Massachusetts
REFRESH-INTERVAL;VALUE=DURATION:PT1H
X-Robots-Tag:noindex
X-PUBLISHED-TTL:PT1H
BEGIN:VTIMEZONE
TZID:America/New_York
BEGIN:DAYLIGHT
TZOFFSETFROM:-0500
TZOFFSETTO:-0400
TZNAME:EDT
DTSTART:20210314T070000
END:DAYLIGHT
BEGIN:STANDARD
TZOFFSETFROM:-0400
TZOFFSETTO:-0500
TZNAME:EST
DTSTART:20211107T060000
END:STANDARD
BEGIN:DAYLIGHT
TZOFFSETFROM:-0500
TZOFFSETTO:-0400
TZNAME:EDT
DTSTART:20220313T070000
END:DAYLIGHT
BEGIN:STANDARD
TZOFFSETFROM:-0400
TZOFFSETTO:-0500
TZNAME:EST
DTSTART:20221106T060000
END:STANDARD
BEGIN:DAYLIGHT
TZOFFSETFROM:-0500
TZOFFSETTO:-0400
TZNAME:EDT
DTSTART:20230312T070000
END:DAYLIGHT
BEGIN:STANDARD
TZOFFSETFROM:-0400
TZOFFSETTO:-0500
TZNAME:EST
DTSTART:20231105T060000
END:STANDARD
END:VTIMEZONE
BEGIN:VEVENT
DTSTART;TZID=America/New_York:20221211T090000
DTEND;TZID=America/New_York:20221211T130000
DTSTAMP:20260421T122840
CREATED:20220130T015248Z
LAST-MODIFIED:20220130T015248Z
UID:689-1670749200-1670763600@watbuddhabhavana.org
SUMMARY:Boon Phra That Luang - That Luang Pagoda Ceremony
DESCRIPTION:Please join us at the temple for Boon Phra That Luang – a Ceremony for the That Luang Pagoda.
URL:https://watbuddhabhavana.org/event/boon-phra-that-luang-that-luang-pagoda-ceremony/
LOCATION:Wat Buddhabhavana\, 25 Milot Rd\, Westford\, MA\, 01886\, United States
END:VEVENT
BEGIN:VEVENT
DTSTART;TZID=America/New_York:20221106T090000
DTEND;TZID=America/New_York:20221106T170000
DTSTAMP:20260421T122840
CREATED:20220130T015102Z
LAST-MODIFIED:20220130T015103Z
UID:686-1667725200-1667754000@watbuddhabhavana.org
SUMMARY:Boon Kathin - Offering of Phapah Robes Ceremony
DESCRIPTION:Please join us at the temple for Boon Kathin – Offering of Phapah Robes Ceremony.
URL:https://watbuddhabhavana.org/event/boon-kathin-offering-of-phapah-robes-ceremony/
LOCATION:Wat Buddhabhavana\, 25 Milot Rd\, Westford\, MA\, 01886\, United States
END:VEVENT
BEGIN:VEVENT
DTSTART;TZID=America/New_York:20221009T090000
DTEND;TZID=America/New_York:20221009T170000
DTSTAMP:20260421T122840
CREATED:20220130T014843Z
LAST-MODIFIED:20220130T014843Z
UID:683-1665306000-1665334800@watbuddhabhavana.org
SUMMARY:Boon Ork Pansa - End of the Rains Retreat Celebration
DESCRIPTION:Please join us at the temple to celebrate Boon Ork Pansa – End of the Rains Retreat or the ending of Buddhist Lent that began in July.
URL:https://watbuddhabhavana.org/event/boon-ork-pansa-end-of-the-rains-retreat-celebration/
LOCATION:Wat Buddhabhavana\, 25 Milot Rd\, Westford\, MA\, 01886\, United States
END:VEVENT
BEGIN:VEVENT
DTSTART;TZID=America/New_York:20220911T090000
DTEND;TZID=America/New_York:20220911T130000
DTSTAMP:20260421T122840
CREATED:20220130T014629Z
LAST-MODIFIED:20220130T014629Z
UID:680-1662886800-1662901200@watbuddhabhavana.org
SUMMARY:Boon Kow Salak - Memorial Service Dedicated to the Departed Ones
DESCRIPTION:Please join us at the temple for Boon Kow Salak\, a memorial service dedicated to the departed ones.
URL:https://watbuddhabhavana.org/event/boon-kow-salak-memorial-service-dedicated-to-the-departed-ones/
LOCATION:Wat Buddhabhavana\, 25 Milot Rd\, Westford\, MA\, 01886\, United States
END:VEVENT
BEGIN:VEVENT
DTSTART;TZID=America/New_York:20220828T090000
DTEND;TZID=America/New_York:20220828T170000
DTSTAMP:20260421T122840
CREATED:20220130T014303Z
LAST-MODIFIED:20220130T014336Z
UID:675-1661677200-1661706000@watbuddhabhavana.org
SUMMARY:Boon HorkowPadapdin - Memorial Service Dedicated to the Departed Ones Ceremony
DESCRIPTION:Please join us at the temple to celebrate Boon HorkowPadapdin – a Memorial Service Dedicated to the Departed Ones.
URL:https://watbuddhabhavana.org/event/boon-horkowpadapdin-memorial-service-dedicated-to-the-departed-ones-ceremony/
LOCATION:Wat Buddhabhavana\, 25 Milot Rd\, Westford\, MA\, 01886\, United States
END:VEVENT
BEGIN:VEVENT
DTSTART;TZID=America/New_York:20220717T090000
DTEND;TZID=America/New_York:20220717T170000
DTSTAMP:20260421T122840
CREATED:20220130T014054Z
LAST-MODIFIED:20220130T014054Z
UID:672-1658048400-1658077200@watbuddhabhavana.org
SUMMARY:Boon Kow Punsa - Beginning of the Rains Retreat Celebration
DESCRIPTION:Please join us at the temple to celebrate the Beginning of the Rains Retreat\, also known as Buddhist Lent – Boon Kow Punsa.
URL:https://watbuddhabhavana.org/event/boon-kow-punsa-beginning-of-the-rains-retreat-celebration/
LOCATION:Wat Buddhabhavana\, 25 Milot Rd\, Westford\, MA\, 01886\, United States
END:VEVENT
BEGIN:VEVENT
DTSTART;TZID=America/New_York:20220625T150000
DTEND;TZID=America/New_York:20220626T170000
DTSTAMP:20260421T122840
CREATED:20220130T013855Z
LAST-MODIFIED:20220130T013856Z
UID:669-1656169200-1656262800@watbuddhabhavana.org
SUMMARY:Boon Phra Ved - The Celebration of Vessandara 's Life Story
DESCRIPTION:Please join us at the temple to celebrate the Life Story of Vessandara\, also known as Boon Phra Ved.
URL:https://watbuddhabhavana.org/event/boon-phra-ved-the-celebration-of-vessandara-s-life-story/
LOCATION:Wat Buddhabhavana\, 25 Milot Rd\, Westford\, MA\, 01886\, United States
END:VEVENT
BEGIN:VEVENT
DTSTART;TZID=America/New_York:20220515T090000
DTEND;TZID=America/New_York:20220515T130000
DTSTAMP:20260421T122840
CREATED:20220130T013610Z
LAST-MODIFIED:20220130T013611Z
UID:666-1652605200-1652619600@watbuddhabhavana.org
SUMMARY:Boon Visaka Puja - Vesak Celebration
DESCRIPTION:Please join us at the temple to celebrate Boon Visaka Puja!
URL:https://watbuddhabhavana.org/event/boon-visaka-puja-vesak-celebration/
LOCATION:Wat Buddhabhavana\, 25 Milot Rd\, Westford\, MA\, 01886\, United States
END:VEVENT
BEGIN:VEVENT
DTSTART;TZID=America/New_York:20220417T080000
DTEND;TZID=America/New_York:20220417T170000
DTSTAMP:20260421T122840
CREATED:20220130T013416Z
LAST-MODIFIED:20220130T013416Z
UID:662-1650182400-1650214800@watbuddhabhavana.org
SUMMARY:Boon Pi Mai Lao - Lao New Year Celebration
DESCRIPTION:Please join us at the temple for Boon Pi Mai Lao – a celebration of the Lao New Year!
URL:https://watbuddhabhavana.org/event/boon-pi-mai-lao-lao-new-year-celebration/
LOCATION:Wat Buddhabhavana\, 25 Milot Rd\, Westford\, MA\, 01886\, United States
END:VEVENT
BEGIN:VEVENT
DTSTART;TZID=America/New_York:20220313T090000
DTEND;TZID=America/New_York:20220313T130000
DTSTAMP:20260421T122840
CREATED:20220130T013226Z
LAST-MODIFIED:20220130T013226Z
UID:659-1647162000-1647176400@watbuddhabhavana.org
SUMMARY:Boon Kong AtthaSamakee - A joint Merit Making Ceremony
DESCRIPTION:Please join us at the temple to celebrate Boon Kong AtthaSamakee – A joint merit making ceremony for the Offering of Eight Requisites to the Monks.
URL:https://watbuddhabhavana.org/event/boon-kong-atthasamakee-a-joint-merit-making-ceremony/
LOCATION:Wat Buddhabhavana\, 25 Milot Rd\, Westford\, MA\, 01886\, United States
END:VEVENT
BEGIN:VEVENT
DTSTART;TZID=America/New_York:20220213T090000
DTEND;TZID=America/New_York:20220213T130000
DTSTAMP:20260421T122840
CREATED:20220130T012908Z
LAST-MODIFIED:20220130T012908Z
UID:656-1644742800-1644757200@watbuddhabhavana.org
SUMMARY:Boon Tak Bath Makha Puja - Makha Puja Celebration
DESCRIPTION:Join us at the temple for Tak Bath and ceremonial offerings to celebrate Boon Makha Puja!
URL:https://watbuddhabhavana.org/event/boon-tak-bath-makha-puja-makha-puja-celebration/
LOCATION:Wat Buddhabhavana\, 25 Milot Rd\, Westford\, MA\, 01886\, United States
END:VEVENT
BEGIN:VEVENT
DTSTART;TZID=America/New_York:20220201T180000
DTEND;TZID=America/New_York:20220201T200000
DTSTAMP:20260421T122840
CREATED:20220130T012547Z
LAST-MODIFIED:20220130T013437Z
UID:652-1643738400-1643745600@watbuddhabhavana.org
SUMMARY:Meditation Practice with Ajanh Dillan Linlavong
DESCRIPTION:Ajanh Dillan holds a meditation practice session Tuesday evenings from 6PM to 8PM. Please call or text 857-233-3689 for more information.
URL:https://watbuddhabhavana.org/event/meditation-practice-with-ajanh-dillan-linlavong/
LOCATION:Wat Buddhabhavana\, 25 Milot Rd\, Westford\, MA\, 01886\, United States
END:VEVENT
END:VCALENDAR