BEGIN:VCALENDAR
VERSION:2.0
PRODID:-//Wat Buddhahavana of Massachusetts - ECPv6.15.17.1//NONSGML v1.0//EN
CALSCALE:GREGORIAN
METHOD:PUBLISH
X-ORIGINAL-URL:https://watbuddhabhavana.org
X-WR-CALDESC:Events for Wat Buddhahavana of Massachusetts
REFRESH-INTERVAL;VALUE=DURATION:PT1H
X-Robots-Tag:noindex
X-PUBLISHED-TTL:PT1H
BEGIN:VTIMEZONE
TZID:America/New_York
BEGIN:DAYLIGHT
TZOFFSETFROM:-0500
TZOFFSETTO:-0400
TZNAME:EDT
DTSTART:20210314T070000
END:DAYLIGHT
BEGIN:STANDARD
TZOFFSETFROM:-0400
TZOFFSETTO:-0500
TZNAME:EST
DTSTART:20211107T060000
END:STANDARD
BEGIN:DAYLIGHT
TZOFFSETFROM:-0500
TZOFFSETTO:-0400
TZNAME:EDT
DTSTART:20220313T070000
END:DAYLIGHT
BEGIN:STANDARD
TZOFFSETFROM:-0400
TZOFFSETTO:-0500
TZNAME:EST
DTSTART:20221106T060000
END:STANDARD
BEGIN:DAYLIGHT
TZOFFSETFROM:-0500
TZOFFSETTO:-0400
TZNAME:EDT
DTSTART:20230312T070000
END:DAYLIGHT
BEGIN:STANDARD
TZOFFSETFROM:-0400
TZOFFSETTO:-0500
TZNAME:EST
DTSTART:20231105T060000
END:STANDARD
END:VTIMEZONE
BEGIN:VEVENT
DTSTART;TZID=America/New_York:20220213T090000
DTEND;TZID=America/New_York:20220213T130000
DTSTAMP:20260421T141219
CREATED:20220130T012908Z
LAST-MODIFIED:20220130T012908Z
UID:656-1644742800-1644757200@watbuddhabhavana.org
SUMMARY:Boon Tak Bath Makha Puja - Makha Puja Celebration
DESCRIPTION:Join us at the temple for Tak Bath and ceremonial offerings to celebrate Boon Makha Puja!
URL:https://watbuddhabhavana.org/event/boon-tak-bath-makha-puja-makha-puja-celebration/
LOCATION:Wat Buddhabhavana\, 25 Milot Rd\, Westford\, MA\, 01886\, United States
END:VEVENT
BEGIN:VEVENT
DTSTART;TZID=America/New_York:20220201T180000
DTEND;TZID=America/New_York:20220201T200000
DTSTAMP:20260421T141219
CREATED:20220130T012547Z
LAST-MODIFIED:20220130T013437Z
UID:652-1643738400-1643745600@watbuddhabhavana.org
SUMMARY:Meditation Practice with Ajanh Dillan Linlavong
DESCRIPTION:Ajanh Dillan holds a meditation practice session Tuesday evenings from 6PM to 8PM. Please call or text 857-233-3689 for more information.
URL:https://watbuddhabhavana.org/event/meditation-practice-with-ajanh-dillan-linlavong/
LOCATION:Wat Buddhabhavana\, 25 Milot Rd\, Westford\, MA\, 01886\, United States
END:VEVENT
END:VCALENDAR